BEGIN:VCALENDAR
VERSION:2.0
PRODID:-//RmcQueen The Process - ECPv6.13.2.1//NONSGML v1.0//EN
CALSCALE:GREGORIAN
METHOD:PUBLISH
X-ORIGINAL-URL:https://rmcqueentheprocess.com
X-WR-CALDESC:Events for RmcQueen The Process
REFRESH-INTERVAL;VALUE=DURATION:PT1H
X-Robots-Tag:noindex
X-PUBLISHED-TTL:PT1H
BEGIN:VTIMEZONE
TZID:UTC
BEGIN:STANDARD
TZOFFSETFROM:+0000
TZOFFSETTO:+0000
TZNAME:UTC
DTSTART:20170101T000000
END:STANDARD
END:VTIMEZONE
BEGIN:VEVENT
DTSTART;TZID=UTC:20170825T190000
DTEND;TZID=UTC:20170825T190000
DTSTAMP:20260425T133740
CREATED:20170716T074400Z
LAST-MODIFIED:20170818T190842Z
UID:537-1503687600-1503687600@rmcqueentheprocess.com
SUMMARY:The Process Ministry Annual Cross Over Camp Meeting (August 25th) @ 7:00 pm
DESCRIPTION:The Process Ministry Annual Cross Over Camp Meeting \nAugust 24th-25th\, 2017\n7PM Nightly\n6644 N 441 Orlando FL\, 32810\nFor Further Details Call: 407-927-7949\nEmail:theprocessministry@gmail.com
URL:https://rmcqueentheprocess.com/event/thr-process-ministry-annual-cross-camp-meeting-august-25th/
LOCATION:Annual Cross Over Camp Meeting\, 6644 N 441\, Orlando\, FL\, 32810\, United States
CATEGORIES:Camp Meeting
ATTACH;FMTTYPE=image/jpeg:https://rmcqueentheprocess.com/wp-content/uploads/2017/07/CAMPMEETING-2017.jpg
ORGANIZER;CN="The Process Ministry":MAILTO:theprocessministry@gmail.com
END:VEVENT
BEGIN:VEVENT
DTSTART;TZID=UTC:20170824T190000
DTEND;TZID=UTC:20170824T190000
DTSTAMP:20260425T133740
CREATED:20170714T120456Z
LAST-MODIFIED:20170818T190928Z
UID:498-1503601200-1503601200@rmcqueentheprocess.com
SUMMARY:The Process Ministry Annual Cross Over Camp Meeting (August 24th) @ 7:00 pm
DESCRIPTION:The Process Ministry Annual Cross Over Camp Meeting \nAugust 24th-25th\, 2017\n7PM Nightly\n6644 N 441 Orlando FL\, 32810\nFor Further Details Call: 407-927-7949\nEmail:theprocessministry@gmail.com
URL:https://rmcqueentheprocess.com/event/the-process-ministry-annual-cross-camp-meeting-august-24th/
LOCATION:Annual Cross Over Camp Meeting\, 6644 N 441\, Orlando\, FL\, 32810\, United States
CATEGORIES:Camp Meeting
ATTACH;FMTTYPE=image/jpeg:https://rmcqueentheprocess.com/wp-content/uploads/2017/07/CAMPMEETING-2017.jpg
ORGANIZER;CN="The Process Ministry":MAILTO:theprocessministry@gmail.com
END:VEVENT
END:VCALENDAR